{
 "currentVersion": 10.5,
 "serviceDescription": "",
 "mapName": "图层",
 "description": "",
 "copyrightText": "",
 "supportsDynamicLayers": true,
 "layers": [
  {
   "id": 0,
   "name": "ONEMAP2020",
   "parentLayerId": -1,
   "defaultVisibility": true,
   "subLayerIds": null,
   "minScale": 0,
   "maxScale": 0
  }
 ],
 "tables": [],
 "spatialReference": {
  "wkid": 4490,
  "latestWkid": 4490
 },
 "singleFusedMapCache": true,
 "tileInfo": {
  "rows": 256,
  "cols": 256,
  "dpi": 96,
  "format": "PNG",
  "compressionQuality": 0,
  "origin": {
   "x": -400,
   "y": 399.9999999999998
  },
  "spatialReference": {
   "wkid": 4490,
   "latestWkid": 4490
  },
  "lods": [
   {
    "level": 0,
    "resolution": 0.01903568804664224,
    "scale": 8000000
   },
   {
    "level": 1,
    "resolution": 0.00951784402332112,
    "scale": 4000000
   },
   {
    "level": 2,
    "resolution": 0.00475892201166056,
    "scale": 2000000
   },
   {
    "level": 3,
    "resolution": 0.00237946100583028,
    "scale": 1000000
   },
   {
    "level": 4,
    "resolution": 0.00118973050291514,
    "scale": 500000
   },
   {
    "level": 5,
    "resolution": 5.9486525145757E-4,
    "scale": 250000
   },
   {
    "level": 6,
    "resolution": 2.97432625728785E-4,
    "scale": 125000
   },
   {
    "level": 7,
    "resolution": 1.5228550437313792E-4,
    "scale": 64000
   },
   {
    "level": 8,
    "resolution": 7.614275218656896E-5,
    "scale": 32000
   },
   {
    "level": 9,
    "resolution": 3.807137609328448E-5,
    "scale": 16000
   },
   {
    "level": 10,
    "resolution": 1.903568804664224E-5,
    "scale": 8000
   },
   {
    "level": 11,
    "resolution": 9.51784402332112E-6,
    "scale": 4000
   }
  ]
 },
 "initialExtent": {
  "xmin": 101.45749296021926,
  "ymin": 36.99941487576664,
  "xmax": 101.6279004396127,
  "ymax": 37.08987246536423,
  "spatialReference": {
   "cs": "gcs",
   "wkid": 4490
  }
 },
 "fullExtent": {
  "xmin": 89.40170954500002,
  "ymin": 31.601224891000015,
  "xmax": 103.06867054399999,
  "ymax": 39.212432369,
  "spatialReference": {
   "cs": "gcs",
   "wkid": 4490
  }
 },
 "minScale": 8000000,
 "maxScale": 4000,
 "units": "esriDecimalDegrees",
 "supportedImageFormatTypes": "PNG32,PNG24,PNG,JPG,DIB,TIFF,EMF,PS,PDF,GIF,SVG,SVGZ,BMP",
 "documentInfo": {
  "Title": "",
  "Author": "",
  "Comments": "",
  "Subject": "",
  "Category": "",
  "AntialiasingMode": "None",
  "TextAntialiasingMode": "Force",
  "Keywords": ""
 },
 "capabilities": "Map,Query,Data",
 "supportedQueryFormats": "JSON, AMF, geoJSON",
 "exportTilesAllowed": false,
 "supportsDatumTransformation": true,
 "maxRecordCount": 1000,
 "maxImageHeight": 4096,
 "maxImageWidth": 4096,
 "supportedExtensions": ""
}
